BEGIN:VCALENDAR
VERSION:2.0
PRODID:-//OmniMagnetCalendar//EN
BEGIN:VEVENT
DTSTAMP:20190625T195740Z
STATUS:CONFIRMED
UID:hchudsonvalley.clubs.harvard.edu222
DTSTART:20260227T003000Z
DTEND:20260227T013000Z
LOCATION:virtual,
SUMMARY:"Can School Boards Save our Democracy?"
DESCRIPTION:A Presentation by Westchester Alumnus Scott Levy '94
BEGIN:VALARM
TRIGGER:-PT15M
ACTION:DISPLAY
END:VALARM
TRANSP:OPAQUE
END:VEVENT
END:VCALENDAR
