BEGIN:VCALENDAR
VERSION:2.0
PRODID:-//OmniMagnetCalendar//EN
BEGIN:VEVENT
DTSTAMP:20190625T195740Z
STATUS:CONFIRMED
UID:hchudsonvalley.clubs.harvard.edu221
DTSTART:20251122T170000Z
DTEND:
LOCATION:Woodstock Club House, 114 Mill Hill Rd, Woodstock, NY,
SUMMARY:Harvard - Yale Game Viewing Party
DESCRIPTION:Join Hudson Valley Alumni and root for the Harvard football team as they take on the Yale Bulldogs.
BEGIN:VALARM
TRIGGER:-PT15M
ACTION:DISPLAY
END:VALARM
TRANSP:OPAQUE
END:VEVENT
END:VCALENDAR
