BEGIN:VCALENDAR
VERSION:2.0
PRODID:-//OmniMagnetCalendar//EN
BEGIN:VEVENT
DTSTAMP:20190625T195740Z
STATUS:CONFIRMED
UID:hchudsonvalley.clubs.harvard.edu219
DTSTART:20251010T180000Z
DTEND:
LOCATION:Athena Gyro Taverna, 1167 Route 55, LaGrangeville, NY, 12540, USA,
SUMMARY:Aristophanes’s The Acharnians Reading
DESCRIPTION:Calling All Greek Comedy Aficionados
BEGIN:VALARM
TRIGGER:-PT15M
ACTION:DISPLAY
END:VALARM
TRANSP:OPAQUE
END:VEVENT
END:VCALENDAR
