BEGIN:VCALENDAR
VERSION:2.0
PRODID:-//OmniMagnetCalendar//EN
BEGIN:VEVENT
DTSTAMP:20190625T195740Z
STATUS:CONFIRMED
UID:hchudsonvalley.clubs.harvard.edu218
DTSTART:20251004T180000Z
DTEND:20251004T220000Z
LOCATION:Stone Ridge Orchard, Kingston, NY,
SUMMARY:Fall Event, Apple Picking and Gathering
DESCRIPTION:Apple Picking, Fall Foliage and Alumni Gathering in the Kingston Area!
BEGIN:VALARM
TRIGGER:-PT15M
ACTION:DISPLAY
END:VALARM
TRANSP:OPAQUE
END:VEVENT
END:VCALENDAR
