BEGIN:VCALENDAR
VERSION:2.0
PRODID:-//OmniMagnetCalendar//EN
BEGIN:VEVENT
DTSTAMP:20190625T195740Z
STATUS:CONFIRMED
UID:hchudsonvalley.clubs.harvard.edu215
DTSTART:20241123T170000Z
DTEND:20241123T210000Z
LOCATION: Lyonshare Public House, 246 Main Street, Beacon, NY,
SUMMARY:Harvard Yale Watch Party
DESCRIPTION:Join us along with the Hudson Valley Yale Club for a friendly rivalry watch party.
BEGIN:VALARM
TRIGGER:-PT15M
ACTION:DISPLAY
END:VALARM
TRANSP:OPAQUE
END:VEVENT
END:VCALENDAR
