BEGIN:VCALENDAR
VERSION:2.0
PRODID:-//OmniMagnetCalendar//EN
BEGIN:VEVENT
DTSTAMP:20190625T195740Z
STATUS:CONFIRMED
UID:hchudsonvalley.clubs.harvard.edu214
DTSTART:20241110T190000Z
DTEND:20241110T220000Z
LOCATION:Daddy O's Bar and Grill, 3 Turner St., Hopewell Junction, NY, 12533,
SUMMARY:Harvard Moves Meet Up
DESCRIPTION:You and your family are cordially invited to join us on the beautiful Hudson Valley Rail Trail for walking or cycling.
BEGIN:VALARM
TRIGGER:-PT15M
ACTION:DISPLAY
END:VALARM
TRANSP:OPAQUE
END:VEVENT
END:VCALENDAR
