BEGIN:VCALENDAR
VERSION:2.0
PRODID:-//OmniMagnetCalendar//EN
BEGIN:VEVENT
DTSTAMP:20190625T195740Z
STATUS:CONFIRMED
UID:hchudsonvalley.clubs.harvard.edu212
DTSTART:20230316T220000Z
DTEND:20230317T000000Z
LOCATION:Reserva Wine Bar, 173 Main St, Beacon, NY, 12508, USA,
SUMMARY:Global Networking Night: Hudson Valley
DESCRIPTION:You’re Invited to the Harvard Alumni Association’s Global Networking Night! Harvard alumni worldwide are coming together both online and in cities around the globe for a night of connection and community.
BEGIN:VALARM
TRIGGER:-PT15M
ACTION:DISPLAY
END:VALARM
TRANSP:OPAQUE
END:VEVENT
END:VCALENDAR
