BEGIN:VCALENDAR
VERSION:2.0
PRODID:-//OmniMagnetCalendar//EN
BEGIN:VEVENT
DTSTAMP:20190625T195740Z
STATUS:CONFIRMED
UID:hchudsonvalley.clubs.harvard.edu209
DTSTART:20220316T220000Z
DTEND:20220317T000000Z
LOCATION:
SUMMARY:Global Networking Night: Hudson Valley
DESCRIPTION:Calling all Harvard alumni in the Hudson Valley! Harvard alumni worldwide are coming together both online and in cities around the globe for a night of connection and community.
BEGIN:VALARM
TRIGGER:-PT15M
ACTION:DISPLAY
END:VALARM
TRANSP:OPAQUE
END:VEVENT
END:VCALENDAR
