BEGIN:VCALENDAR
VERSION:2.0
PRODID:-//OmniMagnetCalendar//EN
BEGIN:VEVENT
DTSTAMP:20190625T195740Z
STATUS:CONFIRMED
UID:hchudsonvalley.clubs.harvard.edu207
DTSTART:20191019T150000Z
DTEND:
LOCATION:Dr. Budknuik's Home, 117 Ridgeview Road , Poughkeepsie, NY, 12603,
SUMMARY:Champagne Brunch and US Healthcare Policy Panel
DESCRIPTION:You are invited to join us on Saturday, October 19th, for a champagne brunch followed by a panel on U.S. Health Care Policy, at the Poughkeepsie home of Dr. Theodora Stillman Budnik ’68.
BEGIN:VALARM
TRIGGER:-PT15M
ACTION:DISPLAY
END:VALARM
TRANSP:OPAQUE
END:VEVENT
END:VCALENDAR
