BEGIN:VCALENDAR
VERSION:2.0
PRODID:-//OmniMagnetCalendar//EN
BEGIN:VEVENT
DTSTAMP:20190625T195740Z
STATUS:CONFIRMED
UID:hchudsonvalley.clubs.harvard.edu206
DTSTART:20190609T210000Z
DTEND:
LOCATION:Boscobel Historic Site, Garrison, NY,
SUMMARY:Boscobel Gala
DESCRIPTION:The annual Boscobel gala was held at Boscobel Historic Site in Garrison, New York. About 85 attended the supper on the lawn, pre-performance talk, and preview performance of Shakespeare's "Much Ado About Nothing".
BEGIN:VALARM
TRIGGER:-PT15M
ACTION:DISPLAY
END:VALARM
TRANSP:OPAQUE
END:VEVENT
END:VCALENDAR
