BEGIN:VCALENDAR
VERSION:2.0
PRODID:-//OmniMagnetCalendar//EN
BEGIN:VEVENT
DTSTAMP:20190625T195740Z
STATUS:CONFIRMED
UID:hchudsonvalley.clubs.harvard.edu205
DTSTART:20190828T180000Z
DTEND:
LOCATION:Weed Orchard, Marlboro, NY,
SUMMARY:Apple Picking
DESCRIPTION:On August 28th a family friendly afternoon at Weed Orchard in Marlboro New York was held. Refreshments, including local cider were served and guests could pick apples and other fruit. A small but enthusiastic multi-generational group enjoyed the afternoon
BEGIN:VALARM
TRIGGER:-PT15M
ACTION:DISPLAY
END:VALARM
TRANSP:OPAQUE
END:VEVENT
END:VCALENDAR
