BEGIN:VCALENDAR
VERSION:2.0
PRODID:-//OmniMagnetCalendar//EN
BEGIN:VEVENT
DTSTAMP:20190625T195740Z
STATUS:CONFIRMED
UID:hchudsonvalley.clubs.harvard.edu202
DTSTART:20160615T150000Z
DTEND:20160615T170000Z
LOCATION:Liberty Bar and Grill, 6417 Montgomery Street, Rhinebeck Village, NY,
SUMMARY:The Harvard Radcliffe Club of the Hudson Valley’s Global Networking Night
DESCRIPTION:
BEGIN:VALARM
TRIGGER:-PT15M
ACTION:DISPLAY
END:VALARM
TRANSP:OPAQUE
END:VEVENT
END:VCALENDAR
